Workbook
Name año: #REF!
Name Category: #REF!
Name Feriados: '[2]Días Festivos y Laborables'!$C$4:$C$65
Name Ref_2: [3]Diario!$F$6
Name Ref_2: [4]Diario!$F$6
Name Relación: OFFSET([5]!Ref.,1,0,COUNTA('[5]Gastos ingresos'!$B$1:$B$65536)-COUNTA('[5]Gastos ingresos'!$B$11:[5]!Ref.),1)
Name Transaction: #REF!
Name Type: '[6]Maintenance Work Order'!#REF!
Name Type: #REF!
Name valuevx: 42.314159

Sheet DESCARGA DE RESPONSABILIDAD
B2: https://siempreexcel.com/
B3: Cualquier artículo, plantilla o información proporcionada por Siempreexcel en el sitio web es solo para referencia y uso educactivo. Si bien nos esforzamos por mantener la información actualizada y correcta, no hacemos representaciones ni garantías de ningún tipo, expresas o implícitas, sobre la integridad, precisión, fiabilidad o disponibilidad con respecto al sitio web o la información, artículos, plantillas o gráficos relacionados contenidos en el sitio web. Por lo tanto, cualquier confianza que deposite en dicha información es estrictamente bajo su propio riesgo.

Sheet Dashboard
B3: Dashboard de Ventas — Pipeline Comercial
B4: Resumen ejecutivo del pipeline, generado automáticamente desde la hoja Pipeline
B6: Valor Total Pipeline | D6: Valor Ponderado | F6: Negocios Ganados | G6: Tasa de Cierre | H6: Ticket Promedio | I6: Negocios Activos
B7: =SUM(Pipeline!E2:E31) -> 237347 | D7: =SUM(Pipeline!H2:H31) -> 141806.3 | F7: =COUNTIF(Pipeline!F2:F31,"Ganado") -> 3 | G7: =COUNTIF(Pipeline!F2:F31,"Ganado")/(COUNTIF(Pipeline!F2:F31,"Ganado")+COUNTIF(Pipeline!F2:F31,"Perdido")) -> 0.6 | H7: =AVERAGE(Pipeline!E2:E31) -> 7911.5667 | I7: =COUNTA(Pipeline!F2:F31)-COUNTIF(Pipeline!F2:F31,"Ganado")-COUNTIF(Pipeline!F2:F31,"Perdido") -> 25
B10: Resumen por Etapa
B11: Etapa | C11: Cantidad | D11: Valor Total | E11: % del Total
B12: Prospecto | C12: =COUNTIF(Pipeline!F:F,B12) -> 4 | D12: =SUMIF(Pipeline!F:F,B12,Pipeline!E:E) -> 20723 | E12: =D12/SUM(Pipeline!E$2:E$31) -> 0.087310983
B13: Contactado | C13: =COUNTIF(Pipeline!F:F,B13) -> 3 | D13: =SUMIF(Pipeline!F:F,B13,Pipeline!E:E) -> 8643 | E13: =D13/SUM(Pipeline!E$2:E$31) -> 0.036415038
B14: Propuesta | C14: =COUNTIF(Pipeline!F:F,B14) -> 5 | D14: =SUMIF(Pipeline!F:F,B14,Pipeline!E:E) -> 35717 | E14: =D14/SUM(Pipeline!E$2:E$31) -> 0.15048431
B15: Negociación | C15: =COUNTIF(Pipeline!F:F,B15) -> 13 | D15: =SUMIF(Pipeline!F:F,B15,Pipeline!E:E) -> 123465 | E15: =D15/SUM(Pipeline!E$2:E$31) -> 0.52018774
B16: Ganado | C16: =COUNTIF(Pipeline!F:F,B16) -> 3 | D16: =SUMIF(Pipeline!F:F,B16,Pipeline!E:E) -> 27116 | E16: =D16/SUM(Pipeline!E$2:E$31) -> 0.11424623
B17: Perdido | C17: =COUNTIF(Pipeline!F:F,B17) -> 2 | D17: =SUMIF(Pipeline!F:F,B17,Pipeline!E:E) -> 21683 | E17: =D17/SUM(Pipeline!E$2:E$31) -> 0.091355694
B19: Resumen por Vendedor
B20: Vendedor | C20: Ventas | D20: N° Negocios | E20: Ticket Prom.
B21: Ana | C21: =SUMIF(Pipeline!D:D,B21,Pipeline!E:E) -> 85016 | D21: =COUNTIF(Pipeline!D:D,B21) -> 8 | E21: =C21/D21 -> 10627
B22: Luis | C22: =SUMIF(Pipeline!D:D,B22,Pipeline!E:E) -> 113835 | D22: =COUNTIF(Pipeline!D:D,B22) -> 16 | E22: =C22/D22 -> 7114.6875
B23: Carlos | C23: =SUMIF(Pipeline!D:D,B23,Pipeline!E:E) -> 38496 | D23: =COUNTIF(Pipeline!D:D,B23) -> 6 | E23: =C23/D23 -> 6416

Sheet Pipeline
A1: ID | B1: Cliente | C1: Empresa | D1: Vendedor | E1: Valor | F1: Etapa | G1: Probabilidad | H1: Valor Ponderado
A2: 1 | B2: Cliente 1 | C2: Orion | D2: Carlos | E2: 12315 | F2: Perdido | G2: =IF(F2="Prospecto",0.1,IF(F2="Contactado",0.25,IF(F2="Propuesta",0.5,IF(F2="Negociación",0.75,IF(F2="Ganado",1,IF(F2="Perdido",0,0)))))) -> 0 | H2: =E2*G2 -> 0
A3: 2 | B3: Cliente 2 | C3: Sigma | D3: Luis | E3: 7541 | F3: Negociación | G3: =IF(F3="Prospecto",0.1,IF(F3="Contactado",0.25,IF(F3="Propuesta",0.5,IF(F3="Negociación",0.75,IF(F3="Ganado",1,IF(F3="Perdido",0,0)))))) -> 0.75 | H3: =E3*G3 -> 5655.75
A4: 3 | B4: Cliente 3 | C4: ABC | D4: Luis | E4: 4769 | F4: Prospecto | G4: =IF(F4="Prospecto",0.1,IF(F4="Contactado",0.25,IF(F4="Propuesta",0.5,IF(F4="Negociación",0.75,IF(F4="Ganado",1,IF(F4="Perdido",0,0)))))) -> 0.1 | H4: =E4*G4 -> 476.9
A5: 4 | B5: Cliente 4 | C5: Sigma | D5: Luis | E5: 2581 | F5: Prospecto | G5: =IF(F5="Prospecto",0.1,IF(F5="Contactado",0.25,IF(F5="Propuesta",0.5,IF(F5="Negociación",0.75,IF(F5="Ganado",1,IF(F5="Perdido",0,0)))))) -> 0.1 | H5: =E5*G5 -> 258.1
A6: 5 | B6: Cliente 5 | C6: Nova | D6: Ana | E6: 9368 | F6: Perdido | G6: =IF(F6="Prospecto",0.1,IF(F6="Contactado",0.25,IF(F6="Propuesta",0.5,IF(F6="Negociación",0.75,IF(F6="Ganado",1,IF(F6="Perdido",0,0)))))) -> 0 | H6: =E6*G6 -> 0
A7: 6 | B7: Cliente 6 | C7: Delta | D7: Carlos | E7: 3920 | F7: Prospecto | G7: =IF(F7="Prospecto",0.1,IF(F7="Contactado",0.25,IF(F7="Propuesta",0.5,IF(F7="Negociación",0.75,IF(F7="Ganado",1,IF(F7="Perdido",0,0)))))) -> 0.1 | H7: =E7*G7 -> 392
A8: 7 | B8: Cliente 7 | C8: Orion | D8: Luis | E8: 6771 | F8: Propuesta | G8: =IF(F8="Prospecto",0.1,IF(F8="Contactado",0.25,IF(F8="Propuesta",0.5,IF(F8="Negociación",0.75,IF(F8="Ganado",1,IF(F8="Perdido",0,0)))))) -> 0.5 | H8: =E8*G8 -> 3385.5
A9: 8 | B9: Cliente 8 | C9: Orion | D9: Luis | E9: 5543 | F9: Propuesta | G9: =IF(F9="Prospecto",0.1,IF(F9="Contactado",0.25,IF(F9="Propuesta",0.5,IF(F9="Negociación",0.75,IF(F9="Ganado",1,IF(F9="Perdido",0,0)))))) -> 0.5 | H9: =E9*G9 -> 2771.5
A10: 9 | B10: Cliente 9 | C10: Nova | D10: Luis | E10: 3401 | F10: Contactado | G10: =IF(F10="Prospecto",0.1,IF(F10="Contactado",0.25,IF(F10="Propuesta",0.5,IF(F10="Negociación",0.75,IF(F10="Ganado",1,IF(F10="Perdido",0,0)))))) -> 0.25 | H10: =E10*G10 -> 850.25
A11: 10 | B11: Cliente 10 | C11: Orion | D11: Luis | E11: 13841 | F11: Ganado | G11: =IF(F11="Prospecto",0.1,IF(F11="Contactado",0.25,IF(F11="Propuesta",0.5,IF(F11="Negociación",0.75,IF(F11="Ganado",1,IF(F11="Perdido",0,0)))))) -> 1 | H11: =E11*G11 -> 13841
A12: 11 | B12: Cliente 11 | C12: Orion | D12: Ana | E12: 13289 | F12: Negociación | G12: =IF(F12="Prospecto",0.1,IF(F12="Contactado",0.25,IF(F12="Propuesta",0.5,IF(F12="Negociación",0.75,IF(F12="Ganado",1,IF(F12="Perdido",0,0)))))) -> 0.75 | H12: =E12*G12 -> 9966.75
A13: 12 | B13: Cliente 12 | C13: Nova | D13: Luis | E13: 6068 | F13: Propuesta | G13: =IF(F13="Prospecto",0.1,IF(F13="Contactado",0.25,IF(F13="Propuesta",0.5,IF(F13="Negociación",0.75,IF(F13="Ganado",1,IF(F13="Perdido",0,0)))))) -> 0.5 | H13: =E13*G13 -> 3034
... A31: 30 | B31: Cliente 30 | C31: Sigma | D31: Luis | E31: 10083 | F31: Propuesta | G31: =IF(F31="Prospecto",0.1,IF(F31="Contactado",0.25,IF(F31="Propuesta",0.5,IF(F31="Negociación",0.75,IF(F31="Ganado",1,IF(F31="Perdido",0,0)))))) -> 0.5 | H31: =E31*G31 -> 5041.5
